BEGIN:VCALENDAR
VERSION:2.0
PRODID:-//hacksw/handcal//NONSGML v1.0//EN
BEGIN:VEVENT
DTSTAMP:20260421T092500Z
DTSTART:20260421T092500Z
DTEND:20260421T092500Z
SUMMARY:Büchener Bürger- und Weinfest
END:VEVENT
BEGIN:VEVENT
DTSTAMP:20260421T094000Z
DTSTART:20260421T094000Z
DTEND:20260421T094000Z
SUMMARY:Vereinsdialog
END:VEVENT
BEGIN:VEVENT
DTSTAMP:20260421T095000Z
DTSTART:20260421T095000Z
DTEND:20260421T095000Z
SUMMARY:Büchener Bürger- und Weinfest
END:VEVENT
END:VCALENDAR
