BEGIN:VCALENDAR
VERSION:2.0
PRODID:-//hacksw/handcal//NONSGML v1.0//EN
BEGIN:VEVENT
DTSTAMP:20260808T150000Z
DTSTART:20260808T150000Z
DTEND:20260808T213000Z
SUMMARY:Büchener Bürger- und Weinfest
END:VEVENT
END:VCALENDAR
