BEGIN:VCALENDAR
VERSION:2.0
PRODID:-//hacksw/handcal//NONSGML v1.0//EN
BEGIN:VEVENT
DTSTAMP:20260506T170000Z
DTSTART:20260506T170000Z
DTEND:20260506T190000Z
SUMMARY:Jahreshauptversammlung
END:VEVENT
END:VCALENDAR
